BEGIN:VCALENDAR
VERSION:2.0
PRODID:-//AmeriFlux - ECPv6.15.12.2//NONSGML v1.0//EN
CALSCALE:GREGORIAN
METHOD:PUBLISH
X-ORIGINAL-URL:https://ameriflux-new.hyperarts.com
X-WR-CALDESC:Events for AmeriFlux
REFRESH-INTERVAL;VALUE=DURATION:PT1H
X-Robots-Tag:noindex
X-PUBLISHED-TTL:PT1H
BEGIN:VTIMEZONE
TZID:America/Los_Angeles
BEGIN:DAYLIGHT
TZOFFSETFROM:-0800
TZOFFSETTO:-0700
TZNAME:PDT
DTSTART:20210314T100000
END:DAYLIGHT
BEGIN:STANDARD
TZOFFSETFROM:-0700
TZOFFSETTO:-0800
TZNAME:PST
DTSTART:20211107T090000
END:STANDARD
BEGIN:DAYLIGHT
TZOFFSETFROM:-0800
TZOFFSETTO:-0700
TZNAME:PDT
DTSTART:20220313T100000
END:DAYLIGHT
BEGIN:STANDARD
TZOFFSETFROM:-0700
TZOFFSETTO:-0800
TZNAME:PST
DTSTART:20221106T090000
END:STANDARD
BEGIN:DAYLIGHT
TZOFFSETFROM:-0800
TZOFFSETTO:-0700
TZNAME:PDT
DTSTART:20230312T100000
END:DAYLIGHT
BEGIN:STANDARD
TZOFFSETFROM:-0700
TZOFFSETTO:-0800
TZNAME:PST
DTSTART:20231105T090000
END:STANDARD
END:VTIMEZONE
BEGIN:VEVENT
DTSTART;VALUE=DATE:20220913
DTEND;VALUE=DATE:20220916
DTSTAMP:20260419T133054
CREATED:20220410T233145Z
LAST-MODIFIED:20220410T233332Z
UID:10000228-1663027200-1663286399@ameriflux-new.hyperarts.com
SUMMARY:ICOS Science Conference 2022
DESCRIPTION:The 5th ICOS Science Conference will be organised in Utrecht (TivoliVredenburg event venue) and online around the world. The conference will run from Tuesday 13th to Thursday 15th of September\, 2022. The overall\, overarching theme of the conference is “Tracking progress to carbon neutrality”.
URL:https://ameriflux-new.hyperarts.com/event/icos-science-conference-2022/
END:VEVENT
BEGIN:VEVENT
DTSTART;VALUE=DATE:20220920
DTEND;VALUE=DATE:20220923
DTSTAMP:20260419T133054
CREATED:20220105T153622Z
LAST-MODIFIED:20220410T233314Z
UID:10000162-1663632000-1663891199@ameriflux-new.hyperarts.com
SUMMARY:AsiaFlux 2022
DESCRIPTION:On behalf of the organising committee\, we cordially invite you to attend the coming AsiaFlux 2022. Please come and join to make a difference in AsiaFlux 2022 which aims to provide opportunities for the delegates to present their most recent research activities\, to exchange new ideas and experiences\, to establish research relations and to explore possibilities of collaborative research. There is No Planet B. Thus\, the conference theme – “The Nexus of Land Use Change\, Ecosystems & Climate: A Path towards Sustainable Development Goals (SDGs)”. \nWe plan to make this AsiaFlux Conference as a platform to raise awareness to the Government\, the Industries and the People especially potential young scientists from Southeast Asia such as Singapore\, Indonesia\, Philippines\, Thailand and Vietnam on the importance of GHG cycling in guiding sustainable land use policies in the region.
URL:https://ameriflux-new.hyperarts.com/event/asiaflux-2022/
ATTACH;FMTTYPE=image/jpeg:https://ameriflux-new.hyperarts.com/wp-content/uploads/2022/01/2021-12-24-FRONT-COVER.jpeg
END:VEVENT
END:VCALENDAR