BEGIN:VCALENDAR
VERSION:2.0
PRODID:-//AmeriFlux - ECPv6.15.12.2//NONSGML v1.0//EN
CALSCALE:GREGORIAN
METHOD:PUBLISH
X-ORIGINAL-URL:https://ameriflux-new.hyperarts.com
X-WR-CALDESC:Events for AmeriFlux
REFRESH-INTERVAL;VALUE=DURATION:PT1H
X-Robots-Tag:noindex
X-PUBLISHED-TTL:PT1H
BEGIN:VTIMEZONE
TZID:America/Los_Angeles
BEGIN:DAYLIGHT
TZOFFSETFROM:-0800
TZOFFSETTO:-0700
TZNAME:PDT
DTSTART:20190310T100000
END:DAYLIGHT
BEGIN:STANDARD
TZOFFSETFROM:-0700
TZOFFSETTO:-0800
TZNAME:PST
DTSTART:20191103T090000
END:STANDARD
BEGIN:DAYLIGHT
TZOFFSETFROM:-0800
TZOFFSETTO:-0700
TZNAME:PDT
DTSTART:20200308T100000
END:DAYLIGHT
BEGIN:STANDARD
TZOFFSETFROM:-0700
TZOFFSETTO:-0800
TZNAME:PST
DTSTART:20201101T090000
END:STANDARD
BEGIN:DAYLIGHT
TZOFFSETFROM:-0800
TZOFFSETTO:-0700
TZNAME:PDT
DTSTART:20210314T100000
END:DAYLIGHT
BEGIN:STANDARD
TZOFFSETFROM:-0700
TZOFFSETTO:-0800
TZNAME:PST
DTSTART:20211107T090000
END:STANDARD
END:VTIMEZONE
BEGIN:VEVENT
DTSTART;VALUE=DATE:20200317
DTEND;VALUE=DATE:20200318
DTSTAMP:20260422T135743
CREATED:20200203T212221Z
LAST-MODIFIED:20200203T212221Z
UID:10000203-1584403200-1584489599@ameriflux-new.hyperarts.com
SUMMARY:FluxCourse 2020 Application Deadline
DESCRIPTION:FluxCourse 2020 Application Deadline\n\nThe award-winning FluxCourse summer short course in flux measurement and modeling will be held July 13th – 24th\, 2020\, at the University of Colorado’s Mountain Research Station at Niwot Ridge\, Colorado\, USA.\nApplications are due March 17\, 2020.\nThe two-week course covers:\n\nfundamentals of observing carbon\, water and energy fluxes at leaf-to-ecosystem scales\nbest practices for the synthesis of flux network data\nfundamentals of integrating flux data and ecosystem models\n\nEach year\, the course is attended by 24 early career scientists and between 10-15 volunteer instructors from all over the world. You can lean more about the course\, the instructors\, and the syllabus from previous years at http://www.fluxcourse.org. \n\nImportant Dates\n\nApplication Deadline: March 17\, 2020\nSelected Participants announced: Mid-April\, 2020\nFlux Course: July 13-24\, 2020\n\nCourse fees are $2\,850\, covering attendance\, dorm\, and meals. Up to four students will receive scholarship for the course.\n\n​To Apply\n\nEmail a CV\, and a statement describing your motivation for attending the course to the event organizers:\n\nDave Moore (davidjpmoore  at email.arizona.edu)\nKim Novick (knovick at indiana.edu)\nLauren Ronstadt (lronstadt at email.arizona.edu).\n\n\nArrange to have a letter/email sent to Dave\, Kim and Lauren from your major advisor supporting your application.\n\nAsk your letter writer to–\n\nConfirm that you have approval/funds to attend the course\nExplain why this course would be useful for you to attend\nIf you are applying for any scholarships below\, explain why you should receive it\n\n\n\n\n\n\nScholarships\n\nAmeriflux Scholars (2 students)\nAmeriflux will generously support two attendees (fee waivers)\n*** To apply for one of the 2 Ameriflux scholarships you must be part of the flux community in North America\, part of Ameriflux or NACP or make a case for another form of participation. \nNEON Scholars (2 students)\nNSF’s National Ecological Observatory Network (NEON) will generously support two attendees (fee waivers + airfare)\n*** To apply for one of the NEON scholarships you must be committed to using NEON data in your research\n\n  \nHope to see you in Colorado in July!\nDave\, Kim & Lauren
URL:https://ameriflux-new.hyperarts.com/event/fluxcourse-2020-application-deadline/
END:VEVENT
BEGIN:VEVENT
DTSTART;VALUE=DATE:20200323
DTEND;VALUE=DATE:20200327
DTSTAMP:20260422T135743
CREATED:20191217T005432Z
LAST-MODIFIED:20200324T200135Z
UID:10000199-1584921600-1585267199@ameriflux-new.hyperarts.com
SUMMARY:2020 NACP Open Science Meeting POSTPONED!
DESCRIPTION:This meeting has been postponed!  TBD \nNACP have been monitoring the COVID-19 situation very closely\, and things continue to change rapidly. We have also been considering your concerns seriously. As you may know\, several cases of COVID-19 infection have been identified in the Washington\, D.C. metro area over the weekend\, and many more organizations are implementing travel restrictions. We want all of our community members to be safe and to get the fullest benefit from the meeting so we are postponing to a later date sometime within 2020\, as yet to be determined\, but for planning purposes we feel this will most likely be Fall 2020(October or November). \nWe had considered doing a virtual-only meeting at the originally scheduled time\, but organizing something like that on such short notice would be a significant task. We also feel that because this community and stakeholders meet so infrequently\, allowing for in-person interactions is an important aspect. Many people have also suggested offering virtual options in the future for reduction of carbon footprints and to accommodate those who cannot travel\, so for the later date the Meeting Planning Committee will investigate these options. \n\nThings to do now:\n• UCAR will be reimbursing all paid registration fees automatically in the next week. There is no need to take further action. \n• Please cancel your other travel arrangements if you made them individually. • The easiest way to cancel the hotel is to call: \n• Hilton 1-800-774-1500 \n• Hilton McLean direct 703 847-5000 \n• Hilton Honors (if you used your HH number) \n• If you are an invited speaker and you made your travel arrangements through ICF – they will take care of canceling flights and train tickets that were booked through their travel agency. \n• Keep an eye out for our future notices and updates regarding this meeting on the rescheduled date! \n\n\n\n\n\n 
URL:https://ameriflux-new.hyperarts.com/event/2020-nacp-open-science-meeting/
LOCATION:Hilton McLean Tysons Corner\, 7920 Jones Branch Dr\, McLean\, VA\, 22102\, United States
END:VEVENT
END:VCALENDAR