BEGIN:VCALENDAR
VERSION:2.0
PRODID:-//AmeriFlux - ECPv6.15.12.2//NONSGML v1.0//EN
CALSCALE:GREGORIAN
METHOD:PUBLISH
X-ORIGINAL-URL:https://ameriflux-new.hyperarts.com
X-WR-CALDESC:Events for AmeriFlux
REFRESH-INTERVAL;VALUE=DURATION:PT1H
X-Robots-Tag:noindex
X-PUBLISHED-TTL:PT1H
BEGIN:VTIMEZONE
TZID:America/Los_Angeles
BEGIN:DAYLIGHT
TZOFFSETFROM:-0800
TZOFFSETTO:-0700
TZNAME:PDT
DTSTART:20180311T100000
END:DAYLIGHT
BEGIN:STANDARD
TZOFFSETFROM:-0700
TZOFFSETTO:-0800
TZNAME:PST
DTSTART:20181104T090000
END:STANDARD
BEGIN:DAYLIGHT
TZOFFSETFROM:-0800
TZOFFSETTO:-0700
TZNAME:PDT
DTSTART:20190310T100000
END:DAYLIGHT
BEGIN:STANDARD
TZOFFSETFROM:-0700
TZOFFSETTO:-0800
TZNAME:PST
DTSTART:20191103T090000
END:STANDARD
BEGIN:DAYLIGHT
TZOFFSETFROM:-0800
TZOFFSETTO:-0700
TZNAME:PDT
DTSTART:20200308T100000
END:DAYLIGHT
BEGIN:STANDARD
TZOFFSETFROM:-0700
TZOFFSETTO:-0800
TZNAME:PST
DTSTART:20201101T090000
END:STANDARD
END:VTIMEZONE
BEGIN:VEVENT
DTSTART;VALUE=DATE:20191028
DTEND;VALUE=DATE:20191031
DTSTAMP:20260422T230058
CREATED:20190727T002240Z
LAST-MODIFIED:20191002T181300Z
UID:10000191-1572220800-1572479999@ameriflux-new.hyperarts.com
SUMMARY:2019 AmeriFlux Data-Tech Workshop
DESCRIPTION:The 2019 AmeriFlux Data-Tech Workshop will be held on Monday\, October 28th – Wednesday\, October 30th\, 2019 in Berkeley\, California\, at the Lawrence Berkeley National Laboratory. \nThe workshop’s first morning provides an overview of AmeriFlux and recommendations for site data management. The remainder of the workshop is organized around the theme of achieving long-term data quality from installation of sensors to publication of the data. The third day offers an opportunity to visit a site(s) in / near the bay area. \n  \nRegistration:\n     Register here. Registration extended through Friday\, October 4th! \nLodging:\n     Berkeley Guest House\, Lawrence Berkeley National Laboratory\, 1 Cyclotron Road.\n     Group Booking Code:  B02B19\n     Book before September 27th to claim a room \n  \nMore information can be found on the event page\, including the event agenda.
URL:https://ameriflux-new.hyperarts.com/event/2019-ameriflux-data-tech-workshop/
LOCATION:Lawrence Berkeley National Lab\, 1 Cyclotron Rd\, Berkeley\, CA\, 94720\, United States
ORGANIZER;CN="AmeriFlux Management Project":MAILTO:ameriflux@lbl.gov
GEO:37.870151;-122.2594606
X-APPLE-STRUCTURED-LOCATION;VALUE=URI;X-ADDRESS=Lawrence Berkeley National Lab 1 Cyclotron Rd Berkeley CA 94720 United States;X-APPLE-RADIUS=500;X-TITLE=1 Cyclotron Rd:geo:-122.2594606,37.870151
END:VEVENT
END:VCALENDAR