BEGIN:VCALENDAR
VERSION:2.0
PRODID:-//AmeriFlux - ECPv6.15.12.2//NONSGML v1.0//EN
CALSCALE:GREGORIAN
METHOD:PUBLISH
X-ORIGINAL-URL:https://ameriflux-new.hyperarts.com
X-WR-CALDESC:Events for AmeriFlux
REFRESH-INTERVAL;VALUE=DURATION:PT1H
X-Robots-Tag:noindex
X-PUBLISHED-TTL:PT1H
BEGIN:VTIMEZONE
TZID:America/Los_Angeles
BEGIN:DAYLIGHT
TZOFFSETFROM:-0800
TZOFFSETTO:-0700
TZNAME:PDT
DTSTART:20170312T100000
END:DAYLIGHT
BEGIN:STANDARD
TZOFFSETFROM:-0700
TZOFFSETTO:-0800
TZNAME:PST
DTSTART:20171105T090000
END:STANDARD
BEGIN:DAYLIGHT
TZOFFSETFROM:-0800
TZOFFSETTO:-0700
TZNAME:PDT
DTSTART:20180311T100000
END:DAYLIGHT
BEGIN:STANDARD
TZOFFSETFROM:-0700
TZOFFSETTO:-0800
TZNAME:PST
DTSTART:20181104T090000
END:STANDARD
BEGIN:DAYLIGHT
TZOFFSETFROM:-0800
TZOFFSETTO:-0700
TZNAME:PDT
DTSTART:20190310T100000
END:DAYLIGHT
BEGIN:STANDARD
TZOFFSETFROM:-0700
TZOFFSETTO:-0800
TZNAME:PST
DTSTART:20191103T090000
END:STANDARD
END:VTIMEZONE
BEGIN:VEVENT
DTSTART;VALUE=DATE:20181210
DTEND;VALUE=DATE:20181215
DTSTAMP:20260423T151430
CREATED:20180320T231815Z
LAST-MODIFIED:20180320T231815Z
UID:10000184-1544400000-1544831999@ameriflux-new.hyperarts.com
SUMMARY:AGU Fall Meeting 2018—Washington DC
DESCRIPTION:The AGU 2018 Fall Meeting will mark another dynamic year of discovery in Earth and space science\, serve as the advent of AGU’s Centennial year\, and provide a special opportunity to share our science with world leaders in Washington\, D.C. As the largest Earth and space science gathering in the world\, the Fall Meeting places you in the center of a global community of scientists drawn from myriad fields of study whose work protects the health and welfare of people worldwide\, spurs innovation\, and informs decisions that are critical to the sustainability of the Earth. You will connect with leading thinkers\, learn about pioneering research and emerging trends\, and use your voice to help drive science’s positive impact on the world. \nThis year the Fall Meeting brings you to Washington\, D.C.\, an international center of science and policy. You can highlight the wonder\, value and immediacy of Earth and space science research and show that science is strong\, global and essential. Connect with the D.C. area’s many scientific institutions and witness the ways that your colleagues are helping to inform solutions to the challenges faced by this region. Recharge by exploring the city’s bustling restaurant and music scene and enjoy the beauty and richness of its national monuments and museums. \nGet Social with #AGU18
URL:https://ameriflux-new.hyperarts.com/event/agu-fall-meeting-2018-washington-dc/
END:VEVENT
END:VCALENDAR