BEGIN:VCALENDAR
VERSION:2.0
PRODID:-//AmeriFlux - ECPv6.15.12.2//NONSGML v1.0//EN
CALSCALE:GREGORIAN
METHOD:PUBLISH
X-WR-CALNAME:AmeriFlux
X-ORIGINAL-URL:https://ameriflux-new.hyperarts.com
X-WR-CALDESC:Events for AmeriFlux
REFRESH-INTERVAL;VALUE=DURATION:PT1H
X-Robots-Tag:noindex
X-PUBLISHED-TTL:PT1H
BEGIN:VTIMEZONE
TZID:America/New_York
BEGIN:DAYLIGHT
TZOFFSETFROM:-0500
TZOFFSETTO:-0400
TZNAME:EDT
DTSTART:20170312T070000
END:DAYLIGHT
BEGIN:STANDARD
TZOFFSETFROM:-0400
TZOFFSETTO:-0500
TZNAME:EST
DTSTART:20171105T060000
END:STANDARD
BEGIN:DAYLIGHT
TZOFFSETFROM:-0500
TZOFFSETTO:-0400
TZNAME:EDT
DTSTART:20180311T070000
END:DAYLIGHT
BEGIN:STANDARD
TZOFFSETFROM:-0400
TZOFFSETTO:-0500
TZNAME:EST
DTSTART:20181104T060000
END:STANDARD
BEGIN:DAYLIGHT
TZOFFSETFROM:-0500
TZOFFSETTO:-0400
TZNAME:EDT
DTSTART:20190310T070000
END:DAYLIGHT
BEGIN:STANDARD
TZOFFSETFROM:-0400
TZOFFSETTO:-0500
TZNAME:EST
DTSTART:20191103T060000
END:STANDARD
END:VTIMEZONE
BEGIN:VEVENT
DTSTART;VALUE=DATE:20181104
DTEND;VALUE=DATE:20181108
DTSTAMP:20260423T165144
CREATED:20180320T230548Z
LAST-MODIFIED:20180320T230548Z
UID:10000178-1541289600-1541635199@ameriflux-new.hyperarts.com
SUMMARY:2018 ASA and CSSA Meeting—Enhancing Productivity in a Changing Climate
DESCRIPTION:The American Society of Agronomy\, the Crop Science Society of America\, and the Canadian Society of Agronomy willl host approximately 2\,500 scientists\, professionals\, educators\, and students at the 2018 International Annual Meeting\, “Enhancing Productivity in a Changing Climate\,” on November 4-7\, 2018\, in Baltimore\, Maryland.\nEarly abstract deadline: May 22\, 4:00 PM CDT\nFinal abstract deadline: June 5\, 4:00 PM CDT\n-All abstracts must be initiated by this date.\n-Submissions can be edited through August 23.\nEarly bird reg by 9/20/2018.
URL:https://ameriflux-new.hyperarts.com/event/2018-asa-cssa-meeting-enhancing-productivity-changing-climate/
END:VEVENT
END:VCALENDAR