BEGIN:VCALENDAR
VERSION:2.0
PRODID:-//AmeriFlux - ECPv6.15.12.2//NONSGML v1.0//EN
CALSCALE:GREGORIAN
METHOD:PUBLISH
X-WR-CALNAME:AmeriFlux
X-ORIGINAL-URL:https://ameriflux-new.hyperarts.com
X-WR-CALDESC:Events for AmeriFlux
REFRESH-INTERVAL;VALUE=DURATION:PT1H
X-Robots-Tag:noindex
X-PUBLISHED-TTL:PT1H
BEGIN:VTIMEZONE
TZID:America/New_York
BEGIN:DAYLIGHT
TZOFFSETFROM:-0500
TZOFFSETTO:-0400
TZNAME:EDT
DTSTART:20170312T070000
END:DAYLIGHT
BEGIN:STANDARD
TZOFFSETFROM:-0400
TZOFFSETTO:-0500
TZNAME:EST
DTSTART:20171105T060000
END:STANDARD
BEGIN:DAYLIGHT
TZOFFSETFROM:-0500
TZOFFSETTO:-0400
TZNAME:EDT
DTSTART:20180311T070000
END:DAYLIGHT
BEGIN:STANDARD
TZOFFSETFROM:-0400
TZOFFSETTO:-0500
TZNAME:EST
DTSTART:20181104T060000
END:STANDARD
BEGIN:DAYLIGHT
TZOFFSETFROM:-0500
TZOFFSETTO:-0400
TZNAME:EDT
DTSTART:20190310T070000
END:DAYLIGHT
BEGIN:STANDARD
TZOFFSETFROM:-0400
TZOFFSETTO:-0500
TZNAME:EST
DTSTART:20191103T060000
END:STANDARD
END:VTIMEZONE
BEGIN:VTIMEZONE
TZID:America/Los_Angeles
BEGIN:DAYLIGHT
TZOFFSETFROM:-0800
TZOFFSETTO:-0700
TZNAME:PDT
DTSTART:20170312T100000
END:DAYLIGHT
BEGIN:STANDARD
TZOFFSETFROM:-0700
TZOFFSETTO:-0800
TZNAME:PST
DTSTART:20171105T090000
END:STANDARD
BEGIN:DAYLIGHT
TZOFFSETFROM:-0800
TZOFFSETTO:-0700
TZNAME:PDT
DTSTART:20180311T100000
END:DAYLIGHT
BEGIN:STANDARD
TZOFFSETFROM:-0700
TZOFFSETTO:-0800
TZNAME:PST
DTSTART:20181104T090000
END:STANDARD
BEGIN:DAYLIGHT
TZOFFSETFROM:-0800
TZOFFSETTO:-0700
TZNAME:PDT
DTSTART:20190310T100000
END:DAYLIGHT
BEGIN:STANDARD
TZOFFSETFROM:-0700
TZOFFSETTO:-0800
TZNAME:PST
DTSTART:20191103T090000
END:STANDARD
END:VTIMEZONE
BEGIN:VEVENT
DTSTART;VALUE=DATE:20180805
DTEND;VALUE=DATE:20180811
DTSTAMP:20260423T212814
CREATED:20180320T231206Z
LAST-MODIFIED:20180320T231206Z
UID:10000183-1533427200-1533945599@ameriflux-new.hyperarts.com
SUMMARY:2018 ESA—New Orleans
DESCRIPTION:Ecological Society of America is holding this year’s meeting in New Orleans. Early Bird registration deadline is June 14\, 2018.
URL:https://ameriflux-new.hyperarts.com/event/2018-esa-new-orleans/
END:VEVENT
BEGIN:VEVENT
DTSTART;VALUE=DATE:20180823
DTEND;VALUE=DATE:20180825
DTSTAMP:20260423T212814
CREATED:20180525T004754Z
LAST-MODIFIED:20180614T214628Z
UID:10000185-1534982400-1535155199@ameriflux-new.hyperarts.com
SUMMARY:AmeriFlux Decadal Synthesis Workshop—Berkeley
DESCRIPTION:Registration is now closed. If you have questions\, contact Trevor Keenan\, Chair for this meeting. \nThis workshop will focus on decadal synthesis\, combined with the integration of flux measurements with other data sources (remote sensing\, inventories\, tree rings\, phenology\, etc.). We will also explore priorities for future eddy-covariance research\, and outline a general synthesis of advances over the past decade. \nWe envisage that this workshop will provide opportunities for new synthesis groups to form and grow. Time for these discussions will be set aside. Organizers for this workshop: Chair Trevor Keenan\, and Co-Chairs Dave Moore and Ankur Desai. \nNote: For this workshop\, AmeriFlux Management Project is covering costs for space\, refreshments and logistical support. AMP will also be able to offer limited support for travel awards for those in need. It will be held at Berkeley Lab. Most attendees should expect to cover their own expenses for travel and lodging.
URL:https://ameriflux-new.hyperarts.com/event/ameriflux-decadal-synthesis-workshop/
LOCATION:Lawrence Berkeley National Lab\, Perseverance Hall (Bldg 54)\, Berkeley\, CA\, 94720\, United States
ORGANIZER;CN="AmeriFlux Management Project":MAILTO:ameriflux@lbl.gov
GEO:37.870151;-122.2594606
X-APPLE-STRUCTURED-LOCATION;VALUE=URI;X-ADDRESS=Lawrence Berkeley National Lab Perseverance Hall (Bldg 54) Berkeley CA 94720 United States;X-APPLE-RADIUS=500;X-TITLE=Perseverance Hall (Bldg 54):geo:-122.2594606,37.870151
END:VEVENT
END:VCALENDAR