BEGIN:VCALENDAR
VERSION:2.0
PRODID:-//AmeriFlux - ECPv6.15.12.2//NONSGML v1.0//EN
CALSCALE:GREGORIAN
METHOD:PUBLISH
X-WR-CALNAME:AmeriFlux
X-ORIGINAL-URL:https://ameriflux-new.hyperarts.com
X-WR-CALDESC:Events for AmeriFlux
REFRESH-INTERVAL;VALUE=DURATION:PT1H
X-Robots-Tag:noindex
X-PUBLISHED-TTL:PT1H
BEGIN:VTIMEZONE
TZID:America/New_York
BEGIN:DAYLIGHT
TZOFFSETFROM:-0500
TZOFFSETTO:-0400
TZNAME:EDT
DTSTART:20160313T070000
END:DAYLIGHT
BEGIN:STANDARD
TZOFFSETFROM:-0400
TZOFFSETTO:-0500
TZNAME:EST
DTSTART:20161106T060000
END:STANDARD
BEGIN:DAYLIGHT
TZOFFSETFROM:-0500
TZOFFSETTO:-0400
TZNAME:EDT
DTSTART:20170312T070000
END:DAYLIGHT
BEGIN:STANDARD
TZOFFSETFROM:-0400
TZOFFSETTO:-0500
TZNAME:EST
DTSTART:20171105T060000
END:STANDARD
BEGIN:DAYLIGHT
TZOFFSETFROM:-0500
TZOFFSETTO:-0400
TZNAME:EDT
DTSTART:20180311T070000
END:DAYLIGHT
BEGIN:STANDARD
TZOFFSETFROM:-0400
TZOFFSETTO:-0500
TZNAME:EST
DTSTART:20181104T060000
END:STANDARD
END:VTIMEZONE
BEGIN:VEVENT
DTSTART;VALUE=DATE:20171211
DTEND;VALUE=DATE:20171216
DTSTAMP:20260424T101512
CREATED:20170313T223322Z
LAST-MODIFIED:20170313T223457Z
UID:10000173-1512950400-1513382399@ameriflux-new.hyperarts.com
SUMMARY:AGU Fall 2017
DESCRIPTION:The big earth & environmental sciences international conference—this year in New Orleans. \nIMPORTANT DEADLINES\n\nApr 19: Submit session proposals\nAug 2: Submit abstracts
URL:https://ameriflux-new.hyperarts.com/event/agu-fall-2017/
ATTACH;FMTTYPE=image/jpeg:https://ameriflux-new.hyperarts.com/wp-content/uploads/2017/03/NewOrleans-map-pin.jpg
END:VEVENT
END:VCALENDAR