BEGIN:VCALENDAR
VERSION:2.0
PRODID:-//AmeriFlux - ECPv6.15.12.2//NONSGML v1.0//EN
CALSCALE:GREGORIAN
METHOD:PUBLISH
X-WR-CALNAME:AmeriFlux
X-ORIGINAL-URL:https://ameriflux-new.hyperarts.com
X-WR-CALDESC:Events for AmeriFlux
REFRESH-INTERVAL;VALUE=DURATION:PT1H
X-Robots-Tag:noindex
X-PUBLISHED-TTL:PT1H
BEGIN:VTIMEZONE
TZID:America/Denver
BEGIN:DAYLIGHT
TZOFFSETFROM:-0700
TZOFFSETTO:-0600
TZNAME:MDT
DTSTART:20150308T090000
END:DAYLIGHT
BEGIN:STANDARD
TZOFFSETFROM:-0600
TZOFFSETTO:-0700
TZNAME:MST
DTSTART:20151101T080000
END:STANDARD
BEGIN:DAYLIGHT
TZOFFSETFROM:-0700
TZOFFSETTO:-0600
TZNAME:MDT
DTSTART:20160313T090000
END:DAYLIGHT
BEGIN:STANDARD
TZOFFSETFROM:-0600
TZOFFSETTO:-0700
TZNAME:MST
DTSTART:20161106T080000
END:STANDARD
BEGIN:DAYLIGHT
TZOFFSETFROM:-0700
TZOFFSETTO:-0600
TZNAME:MDT
DTSTART:20170312T090000
END:DAYLIGHT
BEGIN:STANDARD
TZOFFSETFROM:-0600
TZOFFSETTO:-0700
TZNAME:MST
DTSTART:20171105T080000
END:STANDARD
END:VTIMEZONE
BEGIN:VTIMEZONE
TZID:America/Los_Angeles
BEGIN:DAYLIGHT
TZOFFSETFROM:-0800
TZOFFSETTO:-0700
TZNAME:PDT
DTSTART:20150308T100000
END:DAYLIGHT
BEGIN:STANDARD
TZOFFSETFROM:-0700
TZOFFSETTO:-0800
TZNAME:PST
DTSTART:20151101T090000
END:STANDARD
BEGIN:DAYLIGHT
TZOFFSETFROM:-0800
TZOFFSETTO:-0700
TZNAME:PDT
DTSTART:20160313T100000
END:DAYLIGHT
BEGIN:STANDARD
TZOFFSETFROM:-0700
TZOFFSETTO:-0800
TZNAME:PST
DTSTART:20161106T090000
END:STANDARD
BEGIN:DAYLIGHT
TZOFFSETFROM:-0800
TZOFFSETTO:-0700
TZNAME:PDT
DTSTART:20170312T100000
END:DAYLIGHT
BEGIN:STANDARD
TZOFFSETFROM:-0700
TZOFFSETTO:-0800
TZNAME:PST
DTSTART:20171105T090000
END:STANDARD
END:VTIMEZONE
BEGIN:VEVENT
DTSTART;TZID=America/Denver:20160920T170000
DTEND;TZID=America/Denver:20160921T120000
DTSTAMP:20260425T111817
CREATED:20160701T000932Z
LAST-MODIFIED:20160719T235012Z
UID:10000159-1474390800-1474459200@ameriflux-new.hyperarts.com
SUMMARY:AmeriFlux Tech-Data Workshop—2016
DESCRIPTION:This year’s workshop is at the Mountain Research Station\, near the Niwot Ridge Forest AmeriFlux site. It is also close to where the AmeriFlux Annual PI Meeting will take place in Golden CO\, directly after this workshop. If you want to suggest a topic for the workshop\, contact the organizers Sébastien Biraud (Tech) and Deb Agarwal (Data). Just like past workshops\, your suggestions are always very welcome! \nFor registration and details\, go to: http://ameriflux.lbl.gov/community/ameriflux-meetings-workshops/ \nAGENDA\nTuesday 9/20 \nIf you arrive early (about noon) and the weather is good\, join us on a beautiful but strenuous hike to the alpine zone (elevation ~11\,000 feet). \n5pm Check in \n6pm Dinner—pizza! \n8pm Smores \nOvernight stay at Moores-Collins Family Lodge (four to a room; bring bedding or sleeping bag). Or if you prefer\, book a motel room in nearby Nederland CO. \nWednesday 9/21 \nThe morning starts with an early field trip to the US-NR1 tower. There will be a description of the research and tower technical set-up by the tower PI and long time technician\, Peter Blanken and Sean Burns. The AMP Tech team will lead a tower safety demo\, and give a walk-through of a typical Tech Team site visit and take suggestions on what staff would like us to do during these visits. \n7:30am Breakfast \n8am Field trip! This morning starts with an early field trip to the US-NR1 tower. There will be a description of the research and tower technical set-up by the tower PI and long time technician\, Peter Blanken and Sean Burns. The AMP Tech team will lead a tower safety demo\, and give a walk-through of a typical Tech Team site visit and take suggestions on what staff would like us to do during these visits. \nNoon Lunch \n1-5pm Workshop. After lunch the workshop will move to a lodge. These are the proposed topics; actual topics will depend on your input: \n\nSite power and connectivity best practices\nProcessing of high-frequency data for the Tech Team visit\nSubmission of high-frequency data to AmeriFlux\nQA/QC checks during the Tech Team visit\nProcessing of high-frequency data to products\nSubmission of data processing related BADMs\nAmeriFlux’s loaner program (sonic\, IRGAS\, Radiation sensors) and profiling system\n\n5:30pm Depart for Golden CO \n7pm AmeriFlux Annual PI Meeting’s Dinner in Golden
URL:https://ameriflux-new.hyperarts.com/event/ameriflux-tech-data-workshop-2016/
LOCATION:Mountain Research Station\, 818 County Road 116\, Moores-Collins Family Lodge\, Nederland\, CO\, 80466\, United States
ATTACH;FMTTYPE=image/jpeg:https://ameriflux-new.hyperarts.com/wp-content/uploads/2016/06/15203491204_38c4bc4251_z.jpg
GEO:40.0118121;-105.6412527
X-APPLE-STRUCTURED-LOCATION;VALUE=URI;X-ADDRESS=Mountain Research Station 818 County Road 116 Moores-Collins Family Lodge Nederland CO 80466 United States;X-APPLE-RADIUS=500;X-TITLE=818 County Road 116\, Moores-Collins Family Lodge:geo:-105.6412527,40.0118121
END:VEVENT
BEGIN:VEVENT
DTSTART;TZID=America/Denver:20160921T190000
DTEND;TZID=America/Denver:20160923T170000
DTSTAMP:20260425T111817
CREATED:20160630T235737Z
LAST-MODIFIED:20160719T234739Z
UID:10000157-1474484400-1474650000@ameriflux-new.hyperarts.com
SUMMARY:AmeriFlux Annual PI Meeting—2016
DESCRIPTION:All members of the AmeriFlux community are encouraged to attend. This year this 2+ day event is being held in Golden\, Colorado\, in the beautiful Rockies. The AmeriFlux Tech/Data Workshop takes place immediately before the AmeriFlux Annual PI Meeting\, at nearby Niwot Ridge Mountain Research Station. If you have suggestions for the meeting organizers\, please email them. Your ideas are very welcome! \nFor registration and details\, go to:  http://ameriflux.lbl.gov/community/ameriflux-meetings-workshops/
URL:https://ameriflux-new.hyperarts.com/event/ameriflux-annual-pi-meeting-2016/
LOCATION:Denver Marriott West\, 1717 Denver West Blvd.\, Golden\, CO\, United States
ATTACH;FMTTYPE=image/jpeg:https://ameriflux-new.hyperarts.com/wp-content/uploads/2016/06/Indian_Peaks_sunset.jpg
ORGANIZER;CN="AmeriFlux Management Project":MAILTO:ameriflux@lbl.gov
GEO:39.7400674;-105.1620403
X-APPLE-STRUCTURED-LOCATION;VALUE=URI;X-ADDRESS=Denver Marriott West 1717 Denver West Blvd. Golden CO United States;X-APPLE-RADIUS=500;X-TITLE=1717 Denver West Blvd.:geo:-105.1620403,39.7400674
END:VEVENT
BEGIN:VEVENT
DTSTART;VALUE=DATE:20160927
DTEND;VALUE=DATE:20160930
DTSTAMP:20260425T111817
CREATED:20151019T172254Z
LAST-MODIFIED:20151019T172254Z
UID:10000145-1474934400-1475193599@ameriflux-new.hyperarts.com
SUMMARY:ICOS 2nd RI Science Conference - Helsinki
DESCRIPTION:Pre-conference event is organized on 26th September 2016.  Registration usually opens in July.  More information will be posted later (check ICOS website).
URL:https://ameriflux-new.hyperarts.com/event/icos-2nd-ri-science-conference-helsinki/
LOCATION:Unnamed Venue\, Helsinki\, Finland
GEO:60.1733244;24.9410248
END:VEVENT
END:VCALENDAR