BEGIN:VCALENDAR
VERSION:2.0
PRODID:-//AmeriFlux - ECPv6.15.12.2//NONSGML v1.0//EN
CALSCALE:GREGORIAN
METHOD:PUBLISH
X-WR-CALNAME:AmeriFlux
X-ORIGINAL-URL:https://ameriflux-new.hyperarts.com
X-WR-CALDESC:Events for AmeriFlux
REFRESH-INTERVAL;VALUE=DURATION:PT1H
X-Robots-Tag:noindex
X-PUBLISHED-TTL:PT1H
BEGIN:VTIMEZONE
TZID:America/New_York
BEGIN:DAYLIGHT
TZOFFSETFROM:-0500
TZOFFSETTO:-0400
TZNAME:EDT
DTSTART:20150308T070000
END:DAYLIGHT
BEGIN:STANDARD
TZOFFSETFROM:-0400
TZOFFSETTO:-0500
TZNAME:EST
DTSTART:20151101T060000
END:STANDARD
BEGIN:DAYLIGHT
TZOFFSETFROM:-0500
TZOFFSETTO:-0400
TZNAME:EDT
DTSTART:20160313T070000
END:DAYLIGHT
BEGIN:STANDARD
TZOFFSETFROM:-0400
TZOFFSETTO:-0500
TZNAME:EST
DTSTART:20161106T060000
END:STANDARD
BEGIN:DAYLIGHT
TZOFFSETFROM:-0500
TZOFFSETTO:-0400
TZNAME:EDT
DTSTART:20170312T070000
END:DAYLIGHT
BEGIN:STANDARD
TZOFFSETFROM:-0400
TZOFFSETTO:-0500
TZNAME:EST
DTSTART:20171105T060000
END:STANDARD
END:VTIMEZONE
BEGIN:VTIMEZONE
TZID:America/Denver
BEGIN:DAYLIGHT
TZOFFSETFROM:-0700
TZOFFSETTO:-0600
TZNAME:MDT
DTSTART:20150308T090000
END:DAYLIGHT
BEGIN:STANDARD
TZOFFSETFROM:-0600
TZOFFSETTO:-0700
TZNAME:MST
DTSTART:20151101T080000
END:STANDARD
BEGIN:DAYLIGHT
TZOFFSETFROM:-0700
TZOFFSETTO:-0600
TZNAME:MDT
DTSTART:20160313T090000
END:DAYLIGHT
BEGIN:STANDARD
TZOFFSETFROM:-0600
TZOFFSETTO:-0700
TZNAME:MST
DTSTART:20161106T080000
END:STANDARD
BEGIN:DAYLIGHT
TZOFFSETFROM:-0700
TZOFFSETTO:-0600
TZNAME:MDT
DTSTART:20170312T090000
END:DAYLIGHT
BEGIN:STANDARD
TZOFFSETFROM:-0600
TZOFFSETTO:-0700
TZNAME:MST
DTSTART:20171105T080000
END:STANDARD
END:VTIMEZONE
BEGIN:VEVENT
DTSTART;VALUE=DATE:20160516
DTEND;VALUE=DATE:20160519
DTSTAMP:20260425T174337
CREATED:20160509T225253Z
LAST-MODIFIED:20160509T225427Z
UID:10000150-1463356800-1463615999@ameriflux-new.hyperarts.com
SUMMARY:Remote Access: Second International Land Model Benchmarking (ILAMB) Workshop
DESCRIPTION:We invite you to participate remotely via webcast and to collaborate on writing a report for the wider research community. This will be held on May 16–18\, 2016 for three full days in Washington\, DC \nWorkshop agenda: A nearly final agenda for the workshop is now available at http://www.ilamb.org/meetings/washington2016/ILAMB_Agenda.html. \nWorkshop report: We will be using crowdsourcing to develop a report for the research community resulting from the workshop. A draft outline for the report is available at http://www.ilamb.org/meetings/washington2016/ILAMB_Report_Outline.html. This outline lists names of participants who have agreed to lead or co-lead sections and lists names of chapter co-leads. \nRemote access instructions: We will use the BlueJeans system to webcast the plenary presentations and discussions scheduled to take place in the primary meeting room. \nIf you wish to participate remotely in the ILAMB Workshop\, please register by completing the form at http://goo.gl/forms/cepYWuW4OY. Instructions for connecting to the videoconference and accessing workshop documents will be provided by e-mail. \nWe have an exciting meeting lined up\, and we hope you will be able to join the workshop remotely! \nILAMB Workshop Chairs:\nForrest M. Hoffman\, William J. Riley\, James T. Randerson\, Gretchen Keppel-Aleks\, David M. Lawrence\, Dorothy Koch\, and Renu Joseph\n—\nILAMB Workshop Chairs: ILAMB-Workshop-Chairs@ilamb.org\nILAMB Website: http://www.ilamb.org/
URL:https://ameriflux-new.hyperarts.com/event/remote-access-second-international-land-model-benchmarking-ilamb-workshop/
END:VEVENT
BEGIN:VEVENT
DTSTART;VALUE=DATE:20160517
DTEND;VALUE=DATE:20160519
DTSTAMP:20260425T174337
CREATED:20160113T202538Z
LAST-MODIFIED:20160113T202538Z
UID:10000147-1463443200-1463615999@ameriflux-new.hyperarts.com
SUMMARY:44th Global Monitoring Annual Conference
DESCRIPTION:Registration open now! NOAA’s Earth System Research Laboratory (ESRL)\, Global Monitoring Division\, will host the 44th Global Monitoring Annual Conference\, Tuesday and Wednesday\, May 17th and 18th\, 2016\, in Boulder\, Colorado.
URL:https://ameriflux-new.hyperarts.com/event/44th-global-monitoring-annual-conference/
LOCATION:Venue to be announced\, Boulder CO\, United States
ATTACH;FMTTYPE=image/png:https://ameriflux-new.hyperarts.com/wp-content/uploads/2016/01/NOAA-logo_transparentBG.png
ORGANIZER;CN="NOAA":MAILTO:esrl.gmd.gmac@noaa.gov
GEO:40.0149856;-105.2705456
END:VEVENT
END:VCALENDAR